BEGIN:VCALENDAR
VERSION:2.0
PRODID:-// - ECPv6.8.3//NONSGML v1.0//EN
CALSCALE:GREGORIAN
METHOD:PUBLISH
X-ORIGINAL-URL:https://agapolis.ch
X-WR-CALDESC:Veranstaltungen für 
REFRESH-INTERVAL;VALUE=DURATION:PT1H
X-Robots-Tag:noindex
X-PUBLISHED-TTL:PT1H
BEGIN:VTIMEZONE
TZID:Europe/Zurich
BEGIN:DAYLIGHT
TZOFFSETFROM:+0100
TZOFFSETTO:+0200
TZNAME:CEST
DTSTART:20240331T010000
END:DAYLIGHT
BEGIN:STANDARD
TZOFFSETFROM:+0200
TZOFFSETTO:+0100
TZNAME:CET
DTSTART:20241027T010000
END:STANDARD
END:VTIMEZONE
BEGIN:VEVENT
DTSTART;TZID=Europe/Zurich:20240502T120000
DTEND;TZID=Europe/Zurich:20240502T140000
DTSTAMP:20260424T153230
CREATED:20230217T171052Z
LAST-MODIFIED:20240501T195830Z
UID:1944-1714651200-1714658400@agapolis.ch
SUMMARY:Mittagstisch 100%-pflanzlich
DESCRIPTION:Mittagstisch – verantwortungsvoller Genuss:\nWir verwöhnen Euch mit einem Mittagstisch aus frischen\, biologischen Zutaten. Die hochwertigen Lebensmittel stammen aus der Region von unserem Bioladen. \nWir kochen jeweils am Donnerstag ein kleines abwechslungsreiches Überraschungsmenu\, meist vegetarisch oder vegan. \nVorspeise: Salat oder Suppe je nach Jahreszeit\nHauptspeise: Eintöpfe\, Risotto oder eine feine Pasta\, Polenta oder ein Kartoffelgericht bis zu asiatischen Reisgerichten. Wir lassen uns wöchentlich neu inspirieren.\nDessert: Eine süsse Versuchung zum Abschluss\, da sind unseren Ideen keine Grenzen gesetzt. \nInklusiv sind filtriertes\, gesundes Wasser. Kaffee\, Espresso oder andere Getränke werden über das Kafi Sunnegg abgerechnet. \nKosten: Fr. 20.00 / Person\nZahlung Bar oder mit Twint \nJe nach Wunsch und speziellen Kochanlässen werden auch Bioweine aus der Region ausgeschenkt die wir in unserem Bioladen führen. \nAnmeldung gleich hier unten >
URL:https://agapolis.ch/event/mittagstisch-100-pflanzlich/
LOCATION:Kafi Sunnegg Guntmadingen\, Dorfstrasse 29\, Guntnadingen\, Schaffhausen\, 8223\, Schweiz
CATEGORIES:IMPULSCAFE Verantwortungsvoller Genuss
ATTACH;FMTTYPE=image/jpeg:https://agapolis.ch/wp-content/uploads/2023/02/food-g8d5aea7af_1920.jpg
ORGANIZER;CN="Genuss-Kultur nachhaltiger Genuss":MAILTO:info@genuss-kultur.info
END:VEVENT
END:VCALENDAR