BEGIN:VCALENDAR
VERSION:2.0
PRODID:-// - ECPv6.8.3//NONSGML v1.0//EN
CALSCALE:GREGORIAN
METHOD:PUBLISH
X-ORIGINAL-URL:https://agapolis.ch
X-WR-CALDESC:Veranstaltungen für 
REFRESH-INTERVAL;VALUE=DURATION:PT1H
X-Robots-Tag:noindex
X-PUBLISHED-TTL:PT1H
BEGIN:VTIMEZONE
TZID:Europe/Zurich
BEGIN:DAYLIGHT
TZOFFSETFROM:+0100
TZOFFSETTO:+0200
TZNAME:CEST
DTSTART:20230326T010000
END:DAYLIGHT
BEGIN:STANDARD
TZOFFSETFROM:+0200
TZOFFSETTO:+0100
TZNAME:CET
DTSTART:20231029T010000
END:STANDARD
END:VTIMEZONE
BEGIN:VEVENT
DTSTART;TZID=Europe/Zurich:20231202T090000
DTEND;TZID=Europe/Zurich:20231202T170000
DTSTAMP:20260424T221858
CREATED:20231102T172614Z
LAST-MODIFIED:20231125T074444Z
UID:2452-1701507600-1701536400@agapolis.ch
SUMMARY:Weihnachts-Genusssamstag
DESCRIPTION:Päckli-Samstage mit Degustation am 2.12. und 16.12.\nEinen gemütlichen Vorweihnachts Genusssamstag erleben\, ohne Hektik. \nFehlen Dir noch ein paar regionale Leckereien für die Festtage\, ein feiner Tropfen zu Deinem Weihnachtsmenu\, eine schöne Adventsdeko oder ein genussvolles Geschenk? \nAm Sa. 02.12. und 16.12.2023 laden wir Dich herzlich ein\, in entspannter Atmosphäre zu stöbern\, zu degustieren\, zu geniessen und ganz ohne Stress auszuwählen. \n 
URL:https://agapolis.ch/event/weihnachts-genusssamstag/
LOCATION:Bioladen Pudelwohl\, Unterdorf 3\, Beringen\, Schaffhausen\, 8222\, Schweiz
CATEGORIES:IMPULSCAFE Verantwortungsvoller Genuss
ATTACH;FMTTYPE=image/jpeg:https://agapolis.ch/wp-content/uploads/2023/11/christmas-table-1909796_1280.jpg
ORGANIZER;CN="Genuss-Kultur nachhaltiger Genuss":MAILTO:info@genuss-kultur.info
END:VEVENT
BEGIN:VEVENT
DTSTART;TZID=Europe/Zurich:20231216T090000
DTEND;TZID=Europe/Zurich:20231216T170000
DTSTAMP:20260424T221858
CREATED:20231102T172724Z
LAST-MODIFIED:20240415T072650Z
UID:2455-1702717200-1702746000@agapolis.ch
SUMMARY:Weihnachts Genusssamstag
DESCRIPTION:Päckli-Samstage mit Degustation am 2.12. und 16.12.\nEinen gemütlichen Vorweihnachts Genusssamstag erleben\, ohne Hektik. \nFehlen Dir noch ein paar regionale Leckereien für die Festtage\, ein feiner Tropfen zu Deinem Weihnachtsmenu\, eine schöne Adventsdeko oder ein genussvolles Geschenk? \nAm Sa. 02.12. und 16.12.2023 laden wir Dich herzlich ein\, in entspannter Atmosphäre zu stöbern\, zu degustieren\, zu geniessen und ganz ohne Stress auszuwählen.
URL:https://agapolis.ch/event/weihnachts-genusssamstag-2/
ATTACH;FMTTYPE=image/jpeg:https://agapolis.ch/wp-content/uploads/2023/11/christmas-table-1909796_1280.jpg
END:VEVENT
BEGIN:VEVENT
DTSTART;TZID=Europe/Zurich:20231228T160000
DTEND;TZID=Europe/Zurich:20231228T220000
DTSTAMP:20260424T221858
CREATED:20231219T123333Z
LAST-MODIFIED:20240415T072623Z
UID:2480-1703779200-1703800800@agapolis.ch
SUMMARY:Abschluss Fondue-Abend
DESCRIPTION:Spielenachmittag und Fondueabend:\nTreffen zum gemeinsamen Jahresausklang:\nDonnerstag 28.12.2023\nKafi Sunnegg\, Dorfstrasse 29\, 8223 Guntmadingen \nAb 16:00 – Gemütliches Beisammensein zum Plaudern und Spielen. \nAnschliessend um 19:00 bereiten wir für Euch ein Fondue zu.\nFür den Fondueabend bitten wir um eine Reservation. \nFür das Fondue teilen wir uns die Kosten durch die Anzahl der Anwesenden. Getränke je nach Wahl extra.
URL:https://agapolis.ch/event/abschluss-fondue-abend/
CATEGORIES:IMPULSCAFE Verantwortungsvoller Genuss
ATTACH;FMTTYPE=image/jpeg:https://agapolis.ch/wp-content/uploads/2023/12/christmas-1079760_1280.jpg
END:VEVENT
END:VCALENDAR