BEGIN:VCALENDAR
VERSION:2.0
PRODID:-// - ECPv6.8.3//NONSGML v1.0//EN
CALSCALE:GREGORIAN
METHOD:PUBLISH
X-ORIGINAL-URL:https://agapolis.ch
X-WR-CALDESC:Veranstaltungen für 
REFRESH-INTERVAL;VALUE=DURATION:PT1H
X-Robots-Tag:noindex
X-PUBLISHED-TTL:PT1H
BEGIN:VTIMEZONE
TZID:Europe/Zurich
BEGIN:DAYLIGHT
TZOFFSETFROM:+0100
TZOFFSETTO:+0200
TZNAME:CEST
DTSTART:20230326T010000
END:DAYLIGHT
BEGIN:STANDARD
TZOFFSETFROM:+0200
TZOFFSETTO:+0100
TZNAME:CET
DTSTART:20231029T010000
END:STANDARD
END:VTIMEZONE
BEGIN:VEVENT
DTSTART;TZID=Europe/Zurich:20230707T190000
DTEND;TZID=Europe/Zurich:20230707T213000
DTSTAMP:20260425T060219
CREATED:20230614T182954Z
LAST-MODIFIED:20240415T081114Z
UID:2192-1688756400-1688765400@agapolis.ch
SUMMARY:Vorteile alter Getreidesorten
DESCRIPTION:Kulinarisches Erlebnis mit Informationen über den Getreideanbau. Zusammen mit Katharina und Karl vom Radhof sowie Katja und Werner von Agapolis. \nVeranstalter: Genuss-Kultur und Bioladen Pudelwohl\nDatum:             Fr 07. Juli 2023\nBeginn :           19:00 / Ende: ca. 21:30\nTreffpunkt:    Radhof an der Radhofstrasse 3 in Marthalen\nKosten:            freier Energieausgleich (Empfehlung Fr. 25.00)\nAnmeldung:  unter www.agapolis.ch/veranstaltungen und Mail info@agapolis.ch \nAnmeldung bis 30.06.2023. Die Plätze sind beschränkt. \nWir vermitteln Euch einen Überblick über die Getreidevielfalt am Hof.\nWas sind die Vorteile im Anbau und welche Bedeutung haben alte Getreidearten und Sorten wie Rotkornweizen\, Emmer und Einkorn etc. in unserer Ernährung? Wie sieht es mit den Glutengehalten aus? Was hat eine lange Teigführung für geschmackliche Vorzüge und wie ist die Wirkung auf unser Wohlbefinden? Dazu geniessen wir vom Buffet\, verschiedene Gerichte aus der hofeigenen Getreidevielfalt. \nLass Dich überraschen\, wie z.B. ein Rotkornbrot schmeckt\, oder ein Einkornsalat. Auch zum Dessert gibt es Neues zu probieren und entdecken… \nWir tafeln bei trockenem Wetter gemeinsam am Kornfeld\, bei schlechter Witterung am Hof und geniessen einen wunderbaren Sommerabend. \nDazu kredenzen wir zwei Biosommerweine der Produzenten Strasser-Besson aus Uhwiesen und von 8247-Wein von Dani und Ruth Fink aus Flurlingen. \n  \nPDF zum Download >
URL:https://agapolis.ch/event/vorteile-alter-getreidesorten/
LOCATION:Radhof Marthalen\, Radhof\, Marthalen\, Zürich\, 8460\, Schweiz
CATEGORIES:IMPULSCAFE Verantwortungsvoller Genuss
ATTACH;FMTTYPE=image/jpeg:https://agapolis.ch/wp-content/uploads/2023/06/field-g76b49f967_1920.jpg
ORGANIZER;CN="Genuss-Kultur nachhaltiger Genuss":MAILTO:info@genuss-kultur.info
END:VEVENT
BEGIN:VEVENT
DTSTART;TZID=Europe/Zurich:20230731T190000
DTEND;TZID=Europe/Zurich:20230731T230000
DTSTAMP:20260425T060219
CREATED:20230724T133254Z
LAST-MODIFIED:20240415T081049Z
UID:2338-1690830000-1690844400@agapolis.ch
SUMMARY:Openair Kino
DESCRIPTION:Montag den 31.07.2023\nWir treffen uns um 19:00 an der Dorfstrasse 29 in Guntmadingen im Kafi Sunnegg zum PIzzaplausch. Katja und Werner machen frische Pizza mit Sauerteig. \nAnschliessend um ca. 21:30 schauen wir zusammen den Film Whale Rider. Eine berührende Geschichte aus Neuseeland über ein Maori-Mädchen und ihren Kampf gegen Traditionen und für ihre Bestimmung. \nWer schon mal „spicken“ möchte\, hier der LInk zum Trailer: \n \nWir freuen uns auf einen bewegenden Filmabend… \nBei Schlechtwetter findet der Anlass im Kafi statt. Die Teilnehmeranzahl ist beschränkt. Anmeldung bis Samstag den 29.7.2023. \nWir freuen uns und wir bestellen schon mal das schöne Sommerwetter dazu. \nKosten:            freier Energieausgleich (Empfehlung Fr. 20.00)
URL:https://agapolis.ch/event/openair-kino/
LOCATION:Kafi Sunnegg Guntmadingen\, Dorfstrasse 29\, Guntnadingen\, Schaffhausen\, 8223\, Schweiz
ATTACH;FMTTYPE=image/png:https://agapolis.ch/wp-content/uploads/2023/07/curtain-2757815_1280.png
ORGANIZER;CN="Genuss-Kultur nachhaltiger Genuss":MAILTO:info@genuss-kultur.info
END:VEVENT
END:VCALENDAR