BEGIN:VCALENDAR
VERSION:2.0
PRODID:-// - ECPv6.8.3//NONSGML v1.0//EN
CALSCALE:GREGORIAN
METHOD:PUBLISH
X-ORIGINAL-URL:https://agapolis.ch
X-WR-CALDESC:Veranstaltungen für 
REFRESH-INTERVAL;VALUE=DURATION:PT1H
X-Robots-Tag:noindex
X-PUBLISHED-TTL:PT1H
BEGIN:VTIMEZONE
TZID:Europe/Zurich
BEGIN:DAYLIGHT
TZOFFSETFROM:+0100
TZOFFSETTO:+0200
TZNAME:CEST
DTSTART:20230326T010000
END:DAYLIGHT
BEGIN:STANDARD
TZOFFSETFROM:+0200
TZOFFSETTO:+0100
TZNAME:CET
DTSTART:20231029T010000
END:STANDARD
END:VTIMEZONE
BEGIN:VEVENT
DTSTART;TZID=Europe/Zurich:20230317T190000
DTEND;TZID=Europe/Zurich:20230317T220000
DTSTAMP:20260425T133305
CREATED:20230217T150514Z
LAST-MODIFIED:20240415T081249Z
UID:1903-1679079600-1679090400@agapolis.ch
SUMMARY:Zukunft Lebensmittelversorgung
DESCRIPTION:Infoveranstaltung Lebensmittelversorgung\nAn dieser Infoveranstaltung erörtern wir\, wie eine kleinräumige Lebensmittelversorgung in Zukunft aussehen könnte. Wir nähern uns der Frage an\, wie es um die Versorgungssicherheit steht. Wir brauchen dazu sicher intakte Böden\, eine resiliente Landwirtschaft und kleine Familienbetriebe. Gerade der UNO-Agrarbericht hat unmissverständlich dargelegt\, dass die regionalen Familien- und Kleinbetriebe die Versorgung gewährleisten. Und dabei spielen die Frauen in der Landwirtschaft eine grosse Rolle. \nWir schildern unser Konzept für das Klettgau\, so wie wir mit dem Bioladen Pudelwohl in Beringen als Dreh- und Angelpunkt versuchen\, die regionalen Wirtschaftskreisläufe zu schliessen und die Wertschöpfungskette über eine assoziative Wirtschaftsweise lebendig zu erhalten. Dabei geht es darum\, die Bauernbetriebe gerecht zu bezahlen und die Transportwege kurz zu halten\, um den Nährstoffabbau zu begrenzen\, so dass die Lebensmittel vom Acker direkt in die Teller möglichst frisch einen Mehrwert im Genuss liefern. Die Zentrale Frage dabei – wie gelingt uns eine Ernährungswende.
URL:https://agapolis.ch/event/zukunft-lebensmittelversorgung/
LOCATION:Kafi Sunnegg Guntmadingen\, Dorfstrasse 29\, Guntnadingen\, Schaffhausen\, 8223\, Schweiz
CATEGORIES:IMPULSCAFE Inspiration - Vorträge, Workshops
ATTACH;FMTTYPE=image/jpeg:https://agapolis.ch/wp-content/uploads/2023/02/harvest-ga7a413e29_1920.jpg
ORGANIZER;CN="Verein Bioladen Pudelwohl":MAILTO:info@bioladen-pudelwohl.ch
END:VEVENT
END:VCALENDAR