BEGIN:VCALENDAR
VERSION:2.0
PRODID:-// - ECPv6.8.3//NONSGML v1.0//EN
CALSCALE:GREGORIAN
METHOD:PUBLISH
X-ORIGINAL-URL:https://agapolis.ch
X-WR-CALDESC:Veranstaltungen für 
REFRESH-INTERVAL;VALUE=DURATION:PT1H
X-Robots-Tag:noindex
X-PUBLISHED-TTL:PT1H
BEGIN:VTIMEZONE
TZID:Europe/Zurich
BEGIN:DAYLIGHT
TZOFFSETFROM:+0100
TZOFFSETTO:+0200
TZNAME:CEST
DTSTART:20230326T010000
END:DAYLIGHT
BEGIN:STANDARD
TZOFFSETFROM:+0200
TZOFFSETTO:+0100
TZNAME:CET
DTSTART:20231029T010000
END:STANDARD
END:VTIMEZONE
BEGIN:VEVENT
DTSTART;TZID=Europe/Zurich:20230311T100000
DTEND;TZID=Europe/Zurich:20230311T150000
DTSTAMP:20260425T134108
CREATED:20230217T164609Z
LAST-MODIFIED:20240415T081343Z
UID:1933-1678528800-1678546800@agapolis.ch
SUMMARY:Produzenten-TREFF
DESCRIPTION:Kaffeerösterei „Röstgrad“\nEinmal im Monat veranstalten wir im Bioladen Pudelwohl einen Produzenten Treffpunkt.\nWir stellen abwechselnd unsere Produkte zur Degustation bereit und geben\nden Produkten\, zusammen mit dem Produzenten ein Gesicht. Im spannenden Gesprächen erfahrt Ihr mehr über die Herstellung und könnt im Austausch mit anderen Besuchern über den individuellen Geschmack diskutieren. Diesmal erzählt uns Sam vom Röstgrad wie sozial gerecht sein Kaffeehandel mit anderen Kleinröstern funktioniert. \nFür Euer Wohl sorgt das Pudelwohl-Team mit kleinen Köstlichkeiten aus Zutaten von unserem Laden. \nWenn Ihr mehr über den ökologischen sowie sensorischen Mehrwert unserer Produktem erfahren wollt\, freuen wir uns auf Euren Besuch. Oder schaut einfach auf ein Glas Wein vorbei. Euer Pudel-Team. \n___________________________________________ \nVeranstalter:\nVerein Pudelwohl mit Genuss-Kultur\nDatum:\nSamstag den 11.03.2023\nProduzent:\nSam von Röstgrad\, unserem Kaffeelieferant erzählt über den Kaffeemarkt\nZeit:\n 10:00 bis 15:00\nSensorik-Exkurs:\n13:30 bis 14:00\, eine kurze Einführung in die Welt der Sensorik\nTreffpunkt:\nBioladen Pudelwohl\, Unterdorf 3 8222 Beringen \nkeine Anmeldung erforderlich.
URL:https://agapolis.ch/event/produzenten-treff/
LOCATION:Bioladen Pudelwohl\, Unterdorf 3\, Beringen\, Schaffhausen\, 8222\, Schweiz
CATEGORIES:IMPULSCAFE Verantwortungsvoller Genuss
ATTACH;FMTTYPE=image/jpeg:https://agapolis.ch/wp-content/uploads/2020/05/espresso.jpg
ORGANIZER;CN="Verein Bioladen Pudelwohl":MAILTO:info@bioladen-pudelwohl.ch
END:VEVENT
END:VCALENDAR