BEGIN:VCALENDAR
VERSION:2.0
PRODID:-// - ECPv6.8.3//NONSGML v1.0//EN
CALSCALE:GREGORIAN
METHOD:PUBLISH
X-ORIGINAL-URL:https://agapolis.ch
X-WR-CALDESC:Veranstaltungen für 
REFRESH-INTERVAL;VALUE=DURATION:PT1H
X-Robots-Tag:noindex
X-PUBLISHED-TTL:PT1H
BEGIN:VTIMEZONE
TZID:Europe/Zurich
BEGIN:DAYLIGHT
TZOFFSETFROM:+0100
TZOFFSETTO:+0200
TZNAME:CEST
DTSTART:20230326T010000
END:DAYLIGHT
BEGIN:STANDARD
TZOFFSETFROM:+0200
TZOFFSETTO:+0100
TZNAME:CET
DTSTART:20231029T010000
END:STANDARD
END:VTIMEZONE
BEGIN:VEVENT
DTSTART;TZID=Europe/Zurich:20230223T160000
DTEND;TZID=Europe/Zurich:20230223T190000
DTSTAMP:20260425T151043
CREATED:20230217T154215Z
LAST-MODIFIED:20240415T081549Z
UID:1926-1677168000-1677178800@agapolis.ch
SUMMARY:Degu-TREFF "Toscana"
DESCRIPTION:Weingenuss „Toscana“\nWir importieren zwei Toskanische Weine\, die jetzt ganz neu und exklusiv in der Schweiz durch uns vertreten sind. Der Chianti Annata und die Riserva überzeugen durch die traditionelle Machart\, ohne Schnörkel und zuviel Holz wie viele aus der Region. Sie eignen sich in ihrer schlanken filigranen Art deshalb gut zum Essen\, was viele Super-Tuscans\, die zwar an Prämierungen bestechen\, nicht machen. Die Weine sind nicht mit Cabernet und Co assembliert und deshalb wirklich reine Toskaner. \nFür Euer Wohl sorgt das Pudelwohl-Team mit kleinen Köstlichkeiten aus Zutaten von unserem Laden und für den Weingenuss ist Werner Müller\, Weinsensoriker ZHAW und Dozent an der Academie-du-Vin zuständig.\nWenn Ihr mehr über den ökologischen sowie sensorischen Mehrwert unserer Produkte erfahren wollt\, freuen wir uns auf Euren Besuch. Oder schaut einfach auf ein Glas Wein vorbei. Euer Pudel-Team. \nVeranstalter:\nVerein Pudelwohl mit Genuss-Kultur\nDatum:\nSamstag den 18.02.2023 und Donnerstag 23.02.2023\nProduzent:\nAzienda Agricola Poci Radda in Chianti\, Toscana\nZeit:\nSa. 10:00 bis 15:00 und Do. 16:00 bis 19:00\nSensorik-Exkurs:\nSa. 13:30 bis 14:00\, eine kurze Einführung in die Welt der Sensorik\nTreffpunkt:\nBioladen Pudelwohl\, Unterdorf 3 8222 Beringen \nkeine Anmeldung erforderlich.
URL:https://agapolis.ch/event/degu-treff-toscana-2/
LOCATION:Bioladen Pudelwohl\, Unterdorf 3\, Beringen\, Schaffhausen\, 8222\, Schweiz
CATEGORIES:IMPULSCAFE Verantwortungsvoller Genuss
ATTACH;FMTTYPE=image/jpeg:https://agapolis.ch/wp-content/uploads/2022/09/wine-g62f9bbeb6_1920.jpg
ORGANIZER;CN="Verein Bioladen Pudelwohl":MAILTO:info@bioladen-pudelwohl.ch
END:VEVENT
END:VCALENDAR