BEGIN:VCALENDAR
VERSION:2.0
PRODID:-// - ECPv6.8.3//NONSGML v1.0//EN
CALSCALE:GREGORIAN
METHOD:PUBLISH
X-ORIGINAL-URL:https://agapolis.ch
X-WR-CALDESC:Veranstaltungen für 
REFRESH-INTERVAL;VALUE=DURATION:PT1H
X-Robots-Tag:noindex
X-PUBLISHED-TTL:PT1H
BEGIN:VTIMEZONE
TZID:Europe/Zurich
BEGIN:DAYLIGHT
TZOFFSETFROM:+0100
TZOFFSETTO:+0200
TZNAME:CEST
DTSTART:20230326T010000
END:DAYLIGHT
BEGIN:STANDARD
TZOFFSETFROM:+0200
TZOFFSETTO:+0100
TZNAME:CET
DTSTART:20231029T010000
END:STANDARD
END:VTIMEZONE
BEGIN:VEVENT
DTSTART;TZID=Europe/Zurich:20230222T183000
DTEND;TZID=Europe/Zurich:20230222T213000
DTSTAMP:20260425T150155
CREATED:20230217T153124Z
LAST-MODIFIED:20240415T081613Z
UID:1920-1677090600-1677101400@agapolis.ch
SUMMARY:Weintypologie Grundlagen
DESCRIPTION:Weinsensorik Typologie Grundlagen\nEs gibt in der Sensorikwissenschaft verschiedene Ansätze und Terminologien. Das sieht jeder Weininteressierte an den vielfältigen Degustationsnotizen der verschiedenen Magazine und den jeweiligen Verkostern. Führen diese aber immer zur richtigen Weinauswahl der Weinliebhaber? \nWir erklären ein einfaches und diesbezüglich zielführendes Konzept\, dass von der ZHAW Wädenswil entwickelt wurde. Ziel ist es einzig\, die drei hauptsächlichen Weintypologien der Weine zu erkennen und seinen persönlichen Weingeschmack in Vergleich zu setzen. Die sensorische Disziplin ist nicht nur dazu da\, etwas über den Wein zu lernen\, sondern vor allem viel über sich und seine geschmacklichen Präferenzen\, die sich im Leben entwickeln lässt\, zu erfahren. Emile Peynaud\, ein berühmter französischer Önologe sagte zudem sinngemäss übersetzt. “ Die Kenntnis über die Sensorik schützt vor Trunkenheit. Geniesser und Kenner essen und trinken langsamer und genussvoller. \nZudem geben wir einen sensorischen Überblick über die Weinwelt und setzen diese in Bezug zu unserer Herkunft der Schweiz und zum Kanton Schaffhausen. Dazu degustieren wir 8 Weine aus dem Kanton Schaffhausen im Vergleich zu den europäischen Provenienzen. \nEin Spannungsbogen zwischen Wissensvermittlung und verantwortungsvollem Genuss. \n_______________________________________________________\n\n\nVeranstalter:\nGenuss-Kultur nationaler EU-Koordinator von wine-in-moderation\,\nReferent: Werner Müller\, Sensoriker ZHAW\, Coach\, Dozent Academie du Vin\nTreffpunkt:\nZwirnerei 8247 Weinbau\, in den Arova-Hallen\, Winterthurerstrasse 170\n8247 Flurlingen\, Parkplätze auf dem Areal\nBeginn: \n18:30 bis 21:30\nPlatzzahl beschränkt:\n15 Personen\nKosten:\nFr. 90.00 für Vortrag und 8 Degustationsweine\n_______________________________________________________\nAnmeldeschluss: Montag den 20.02.2023\n___________________________________________ \nVoraussetzung: keine\nVorteil: Weinbasiskurs \nZur Anmeldung >
URL:https://agapolis.ch/event/weintypologie-grundlagen/
LOCATION:Zwirnerei 8247 Weinbau Flurlingen\, Winterthurerstrasse 710\, Flurlingen\, Zürich\, 8247\, Schweiz
CATEGORIES:IMPULSCAFE Verantwortungsvoller Genuss
ATTACH;FMTTYPE=image/jpeg:https://agapolis.ch/wp-content/uploads/2022/09/wine-g091da0a1d_1920.jpg
ORGANIZER;CN="Genuss-Kultur nachhaltiger Genuss":MAILTO:info@genuss-kultur.info
END:VEVENT
END:VCALENDAR